BEGIN:VCALENDAR
VERSION:2.0
PRODID:-//Plone.org//NONSGML plone.app.event//EN
X-WR-TIMEZONE:Europe/Helsinki
BEGIN:VEVENT
SUMMARY:DECOM-TT 2009
DTSTART;TZID=Europe/Helsinki;VALUE=DATE-TIME:20260420T090000
DTEND;TZID=Europe/Helsinki;VALUE=DATE-TIME:20260420T100000
DTSTAMP;VALUE=DATE-TIME:20260420T083216Z
UID:1f17b766b3e605e71a801dff1aaa14ff@127.0.0.1:8090
CREATED;VALUE=DATE-TIME:20090223T101140Z
DESCRIPTION:IFAC-DECOM (IFAC WS on Knowledge and Technology Transfer to De
 veloping Countries) 2009 will be organized jointly by ETAI Society and IEE
 E R.Macedonia Section at Institute of Automation & Systems Engineering of 
 SS Cyril and Methodius University\, Skopje. 
LAST-MODIFIED;VALUE=DATE-TIME:20090223T101140Z
LOCATION:Skopje\, Macedonia
URL:https://tc.ifac-control.org/Members/tc93/decom-tt-2009
END:VEVENT
BEGIN:VTIMEZONE
TZID:Europe/Helsinki
X-LIC-LOCATION:Europe/Helsinki
BEGIN:DAYLIGHT
DTSTART;VALUE=DATE-TIME:20260329T040000
TZNAME:EEST
TZOFFSETFROM:+0200
TZOFFSETTO:+0300
END:DAYLIGHT
END:VTIMEZONE
END:VCALENDAR
