BEGIN:VCALENDAR
VERSION:2.0
PRODID:-//Plone.org//NONSGML plone.app.event//EN
X-WR-TIMEZONE:Europe/Helsinki
BEGIN:VEVENT
SUMMARY:MCBMS 2009
DTSTART;TZID=Europe/Helsinki;VALUE=DATE-TIME:20260420T090000
DTEND;TZID=Europe/Helsinki;VALUE=DATE-TIME:20260420T100000
DTSTAMP;VALUE=DATE-TIME:20260420T083216Z
UID:61bfbb0d26534f11df511764f6c841cc@127.0.0.1:8090
CREATED;VALUE=DATE-TIME:20081001T133951Z
DESCRIPTION:7th IFAC Symposium on Modelling and Control in Biomedical Syst
 ems (Including Biological Systems)
LAST-MODIFIED;VALUE=DATE-TIME:20081001T133951Z
LOCATION:Aalborg\, Denmark
URL:https://tc.ifac-control.org/Members/tc82/mcbms-2009-1
END:VEVENT
BEGIN:VTIMEZONE
TZID:Europe/Helsinki
X-LIC-LOCATION:Europe/Helsinki
BEGIN:DAYLIGHT
DTSTART;VALUE=DATE-TIME:20260329T040000
TZNAME:EEST
TZOFFSETFROM:+0200
TZOFFSETTO:+0300
END:DAYLIGHT
END:VTIMEZONE
END:VCALENDAR
