BEGIN:VCALENDAR
VERSION:2.0
PRODID:-//Plone.org//NONSGML plone.app.event//EN
X-WR-TIMEZONE:Europe/Helsinki
BEGIN:VEVENT
SUMMARY:Syroco 2009 Conference in Gifu
DTSTART;TZID=Europe/Helsinki;VALUE=DATE-TIME:20260420T090000
DTEND;TZID=Europe/Helsinki;VALUE=DATE-TIME:20260420T100000
DTSTAMP;VALUE=DATE-TIME:20260420T083303Z
UID:804c58dfdd9f78bd144d98b6451f73e8@127.0.0.1:8090
CREATED;VALUE=DATE-TIME:20081223T050712Z
DESCRIPTION:Scopes:\n- Distributed Intelligent Sensors\n- Cognitive Commun
 ication Channels\n- Adaptive machinery personaliation\n - Phychological an
 d ethological inspired Human System Interaction\n- Cognitive robot program
 ming and supervising\n- Robot ethology\n- Intelligent space
LAST-MODIFIED;VALUE=DATE-TIME:20090107T163457Z
LOCATION:Nagaragawa COnvention Center\, Japan
URL:https://tc.ifac-control.org/Members/tc43/syroco-hsi2009-ss
END:VEVENT
BEGIN:VTIMEZONE
TZID:Europe/Helsinki
X-LIC-LOCATION:Europe/Helsinki
BEGIN:DAYLIGHT
DTSTART;VALUE=DATE-TIME:20260329T040000
TZNAME:EEST
TZOFFSETFROM:+0200
TZOFFSETTO:+0300
END:DAYLIGHT
END:VTIMEZONE
END:VCALENDAR
