BEGIN:VCALENDAR
VERSION:2.0
PRODID:-//Plone.org//NONSGML plone.app.event//EN
X-WR-TIMEZONE:Europe/Helsinki
BEGIN:VEVENT
SUMMARY:IFAC Conference on Technology\, Culture and International Stabilit
 y – 22nd TECIS 2024
DTSTART;VALUE=DATE:20240529
DTEND;VALUE=DATE:20240601
DTSTAMP;VALUE=DATE-TIME:20260422T041529Z
UID:7eed05b44e4e456bb40d8c8d8202a771@127.0.0.1:8090
CONTACT:NOC\, tecis2024@setu.ie\, https://conferences.ifac-control.org/tec
 is2024
CREATED;VALUE=DATE-TIME:20240224T151518Z
DESCRIPTION:It is our pleasure to invite you to participate in TECIS2024\n
 Draft Paper Submission deadline is extended to March 1st\, 2024.
LAST-MODIFIED;VALUE=DATE-TIME:20240224T151626Z
URL:https://tc.ifac-control.org/9/5/events/upcoming-events/ifac-conference
 -on-technology-culture-and-international-stability-2013-22nd-tecis-2024
END:VEVENT
END:VCALENDAR
