BEGIN:VCALENDAR
VERSION:2.0
PRODID:-//Plone.org//NONSGML plone.app.event//EN
X-WR-TIMEZONE:Europe/Helsinki
BEGIN:VEVENT
SUMMARY:INCOM 2024 - Vienna Austria
DTSTART;VALUE=DATE:20240828
DTEND;VALUE=DATE:20240831
DTSTAMP;VALUE=DATE-TIME:20260422T011938Z
UID:9859fa23988547be8a70d9f0bce97ef8@127.0.0.1:8090
CONTACT:https://www.incom2024.org/
CREATED;VALUE=DATE-TIME:20230721T143043Z
LAST-MODIFIED;VALUE=DATE-TIME:20230721T143043Z
LOCATION:Vienna / Austria
URL:https://tc.ifac-control.org/9/5/events/supported-events/tc-9-5-support
 ed-events-and-activities/incom-2024-vienna-austria
END:VEVENT
END:VCALENDAR
