BEGIN:VCALENDAR
VERSION:2.0
PRODID:-//Plone.org//NONSGML plone.app.event//EN
X-WR-TIMEZONE:Europe/Helsinki
BEGIN:VEVENT
SUMMARY:ACE2013 - the 10th IFAC Symposium on Advances in Control Education
DTSTART;TZID=Europe/Helsinki;VALUE=DATE-TIME:20260421T220000
DTEND;TZID=Europe/Helsinki;VALUE=DATE-TIME:20260421T230000
DTSTAMP;VALUE=DATE-TIME:20260421T215505Z
UID:7778269301c94b80a342061f2191e3a6@127.0.0.1:8090
CATEGORIES:Symposium
CREATED;VALUE=DATE-TIME:20150223T114402Z
DESCRIPTION:ACE2013 - the 10th IFAC Symposium on Advances in Control Educa
 tion - will provide an innovative forum at which researchers and practitio
 ners in control education will present  their latest research\, results an
 d ideas. ACE2013  also aims to spread new knowledge and alternative approa
 ches in education. International cooperation\, especially between academia
  and industry\, in control engineering education will be emphasized.
LAST-MODIFIED;VALUE=DATE-TIME:20161212T165558Z
LOCATION:Sheffield England
URL:https://tc.ifac-control.org/9/5/events/supported-events/tc-9-5-support
 ed-events-and-activities/ace2013-the-10th-ifac-symposium-on-advances-in-co
 ntrol-education
END:VEVENT
BEGIN:VTIMEZONE
TZID:Europe/Helsinki
X-LIC-LOCATION:Europe/Helsinki
BEGIN:DAYLIGHT
DTSTART;VALUE=DATE-TIME:20260329T040000
TZNAME:EEST
TZOFFSETFROM:+0200
TZOFFSETTO:+0300
END:DAYLIGHT
END:VTIMEZONE
END:VCALENDAR
