BEGIN:VCALENDAR
VERSION:2.0
PRODID:-//Plone.org//NONSGML plone.app.event//EN
X-WR-TIMEZONE:Europe/Helsinki
BEGIN:VEVENT
SUMMARY:Curriculum Survey
DTSTART;TZID=Europe/Helsinki;VALUE=DATE-TIME:20260426T020000
DTEND;TZID=Europe/Helsinki;VALUE=DATE-TIME:20260426T030000
DTSTAMP;VALUE=DATE-TIME:20260426T013543Z
UID:2a9b7d780d224937b80c0543ec55218f@127.0.0.1:8090
CREATED;VALUE=DATE-TIME:20190703T073931Z
DESCRIPTION:The Technical Committees on Education (IFAC and IEEE) are coor
 dinating a survey to help the global community share its views on what con
 trol related topics we should be including in an engineering curriculum. P
 lease take the 5minute survey and let us know what you think! [Deadline Au
 gust 31st 2019]
LAST-MODIFIED;VALUE=DATE-TIME:20190703T074100Z
URL:https://tc.ifac-control.org/9/4/news-1/curriculum-survey
END:VEVENT
BEGIN:VTIMEZONE
TZID:Europe/Helsinki
X-LIC-LOCATION:Europe/Helsinki
BEGIN:DAYLIGHT
DTSTART;VALUE=DATE-TIME:20260329T040000
TZNAME:EEST
TZOFFSETFROM:+0200
TZOFFSETTO:+0300
END:DAYLIGHT
END:VTIMEZONE
END:VCALENDAR
