BEGIN:VCALENDAR
VERSION:2.0
PRODID:-//Plone.org//NONSGML plone.app.event//EN
X-WR-TIMEZONE:Europe/Helsinki
BEGIN:VEVENT
SUMMARY:TECIS 2016
DTSTART;TZID=Europe/Helsinki;VALUE=DATE-TIME:20260420T050000
DTEND;TZID=Europe/Helsinki;VALUE=DATE-TIME:20260420T060000
DTSTAMP;VALUE=DATE-TIME:20260420T045058Z
UID:cccabb7c992e4c4693fdbd1405b1f792@127.0.0.1:8090
CREATED;VALUE=DATE-TIME:20160329T195117Z
DESCRIPTION:17th Technology\, Culture and International Stability (TECIS 2
 016)\, 26-28 October 2016
LAST-MODIFIED;VALUE=DATE-TIME:20160329T201458Z
LOCATION:Durres (Albania)
URL:https://tc.ifac-control.org/9/4/events/tecis-2016
END:VEVENT
BEGIN:VTIMEZONE
TZID:Europe/Helsinki
X-LIC-LOCATION:Europe/Helsinki
BEGIN:DAYLIGHT
DTSTART;VALUE=DATE-TIME:20260329T040000
TZNAME:EEST
TZOFFSETFROM:+0200
TZOFFSETTO:+0300
END:DAYLIGHT
END:VTIMEZONE
END:VCALENDAR
