BEGIN:VCALENDAR
VERSION:2.0
PRODID:-//Plone.org//NONSGML plone.app.event//EN
X-WR-TIMEZONE:Europe/Helsinki
BEGIN:VEVENT
SUMMARY:Harold Chestnut Prize 2014
DTSTART;TZID=Europe/Helsinki;VALUE=DATE-TIME:20260420T140000
DTEND;TZID=Europe/Helsinki;VALUE=DATE-TIME:20260420T150000
DTSTAMP;VALUE=DATE-TIME:20260420T135516Z
UID:833865bcdd784bdd9b6bd11ce737b2f0@127.0.0.1:8090
CREATED;VALUE=DATE-TIME:20140819T192020Z
DESCRIPTION:IFAC Harold Chestnut Control Engineering Textbook Prize - Invi
 tation to the Closing Ceremony on August 29
LAST-MODIFIED;VALUE=DATE-TIME:20141228T204325Z
LOCATION:IFAC Congress\, Cape Town
URL:https://tc.ifac-control.org/9/4/events/past-events/ifac-harold-chestnu
 t-control-engineering-textbook-prize-invitation-to-the-closing-ceremony-on
 -august-29
END:VEVENT
BEGIN:VTIMEZONE
TZID:Europe/Helsinki
X-LIC-LOCATION:Europe/Helsinki
BEGIN:DAYLIGHT
DTSTART;VALUE=DATE-TIME:20260329T040000
TZNAME:EEST
TZOFFSETFROM:+0200
TZOFFSETTO:+0300
END:DAYLIGHT
END:VTIMEZONE
END:VCALENDAR
