BEGIN:VCALENDAR
VERSION:2.0
PRODID:-//Plone.org//NONSGML plone.app.event//EN
X-WR-TIMEZONE:Europe/Helsinki
BEGIN:VEVENT
SUMMARY:IBCE15
DTSTART;TZID=Europe/Helsinki;VALUE=DATE-TIME:20260421T220000
DTEND;TZID=Europe/Helsinki;VALUE=DATE-TIME:20260421T230000
DTSTAMP;VALUE=DATE-TIME:20260421T214445Z
UID:364bef4868cc47f7bd236f891a9a2a14@127.0.0.1:8090
CREATED;VALUE=DATE-TIME:20141228T202758Z
DESCRIPTION:Workshop on Internet Based Control Education 2015 (IBCE15)
LAST-MODIFIED;VALUE=DATE-TIME:20160329T195914Z
LOCATION:Brescia (Italy)
URL:https://tc.ifac-control.org/9/4/events/past-events/ibce15
END:VEVENT
BEGIN:VTIMEZONE
TZID:Europe/Helsinki
X-LIC-LOCATION:Europe/Helsinki
BEGIN:DAYLIGHT
DTSTART;VALUE=DATE-TIME:20260329T040000
TZNAME:EEST
TZOFFSETFROM:+0200
TZOFFSETTO:+0300
END:DAYLIGHT
END:VTIMEZONE
END:VCALENDAR
