BEGIN:VCALENDAR
VERSION:2.0
PRODID:-//Plone.org//NONSGML plone.app.event//EN
X-WR-TIMEZONE:Europe/Helsinki
BEGIN:VEVENT
SUMMARY:IFAC Symposium on Advances in Control Education 2019
DTSTART;TZID=Europe/Helsinki;VALUE=DATE-TIME:20260422T020000
DTEND;TZID=Europe/Helsinki;VALUE=DATE-TIME:20260422T030000
DTSTAMP;VALUE=DATE-TIME:20260422T011336Z
UID:1b95fb3f7ed14860aa0bb948f785382a@127.0.0.1:8090
CREATED;VALUE=DATE-TIME:20181101T133013Z
DESCRIPTION:The 2019 IFAC Advances in Control Education (ACE) Symposium wi
 ll be held at the Philadelphia Marriott Downtown Hotel in the heart of the
  center in Philadelphia\, PA\, USA on July 7-9\, 2019 in conjunction with 
 ACC2019: http://acc2019.a2c2.org
LAST-MODIFIED;VALUE=DATE-TIME:20181101T133014Z
LOCATION:USA
URL:https://tc.ifac-control.org/9/4/events/ifac-symposium-on-advances-in-c
 ontrol-education-2019
END:VEVENT
BEGIN:VTIMEZONE
TZID:Europe/Helsinki
X-LIC-LOCATION:Europe/Helsinki
BEGIN:DAYLIGHT
DTSTART;VALUE=DATE-TIME:20260329T040000
TZNAME:EEST
TZOFFSETFROM:+0200
TZOFFSETTO:+0300
END:DAYLIGHT
END:VTIMEZONE
END:VCALENDAR
