BEGIN:VCALENDAR
VERSION:2.0
PRODID:-//Plone.org//NONSGML plone.app.event//EN
X-WR-TIMEZONE:Europe/Helsinki
BEGIN:VEVENT
SUMMARY:CONTROLO 2016
DTSTART;TZID=Europe/Helsinki;VALUE=DATE-TIME:20260420T220000
DTEND;TZID=Europe/Helsinki;VALUE=DATE-TIME:20260420T230000
DTSTAMP;VALUE=DATE-TIME:20260420T213305Z
UID:160c8f7c3359448bbb75d4b001263224@127.0.0.1:8090
CREATED;VALUE=DATE-TIME:20160329T194729Z
DESCRIPTION:12th Portuguese Conference on Automatic Control (CONTROLO 2016
 )\, 14-16 September 2016
LAST-MODIFIED;VALUE=DATE-TIME:20160329T201445Z
LOCATION:Guimarães (Portugal)
URL:https://tc.ifac-control.org/9/4/events/controlo2016
END:VEVENT
BEGIN:VTIMEZONE
TZID:Europe/Helsinki
X-LIC-LOCATION:Europe/Helsinki
BEGIN:DAYLIGHT
DTSTART;VALUE=DATE-TIME:20260329T040000
TZNAME:EEST
TZOFFSETFROM:+0200
TZOFFSETTO:+0300
END:DAYLIGHT
END:VTIMEZONE
END:VCALENDAR
