BEGIN:VCALENDAR
VERSION:2.0
PRODID:-//Plone.org//NONSGML plone.app.event//EN
X-WR-TIMEZONE:Europe/Helsinki
BEGIN:VEVENT
SUMMARY:1st IFAC Workshop on Integrated Assessment Modelling for Environme
 ntal Systems
DTSTART;TZID=Europe/Helsinki;VALUE=DATE-TIME:20260421T220000
DTEND;TZID=Europe/Helsinki;VALUE=DATE-TIME:20260421T230000
DTSTAMP;VALUE=DATE-TIME:20260421T214815Z
UID:b1aef278b52045dd8194b7e7049cfcdc@127.0.0.1:8090
CREATED;VALUE=DATE-TIME:20190429T104451Z
DESCRIPTION:IAMES2018 focuses on Integrated Assessment Modeling (IAM)\, a 
 scientific approach aimed at appraising environmental policies. It is a pa
 rticipative and iterative process in which scientists from different disci
 plines\, policy makers and other stakeholders work together to merge knowl
 edge from multiple domains (engineering\, chemistry\, physics\, social and
  life sciences\, economics\, …) into a single framework\, generating str
 uctured information useful for policy making.
LAST-MODIFIED;VALUE=DATE-TIME:20200226T095934Z
LOCATION:Brescia\, ITALY
URL:https://tc.ifac-control.org/8/3/past-events/1st-ifac-workshop-on-integ
 rated-assessment-modelling-for-environmental-systems
END:VEVENT
BEGIN:VTIMEZONE
TZID:Europe/Helsinki
X-LIC-LOCATION:Europe/Helsinki
BEGIN:DAYLIGHT
DTSTART;VALUE=DATE-TIME:20260329T040000
TZNAME:EEST
TZOFFSETFROM:+0200
TZOFFSETTO:+0300
END:DAYLIGHT
END:VTIMEZONE
END:VCALENDAR
