BEGIN:VCALENDAR
VERSION:2.0
PRODID:-//Plone.org//NONSGML plone.app.event//EN
X-WR-TIMEZONE:Europe/Helsinki
BEGIN:VEVENT
SUMMARY:BMS 2015
DTSTART;TZID=Europe/Helsinki;VALUE=DATE-TIME:20260421T020000
DTEND;TZID=Europe/Helsinki;VALUE=DATE-TIME:20260421T030000
DTSTAMP;VALUE=DATE-TIME:20260421T014838Z
UID:2cc9c84f59db68b715cf54fc6011df55@127.0.0.1:8090
CREATED;VALUE=DATE-TIME:20130118T114900Z
DESCRIPTION:9th IFAC Symposium on Biological and Medical Systems
LAST-MODIFIED;VALUE=DATE-TIME:20130118T121536Z
LOCATION:Berlin\, Germany
URL:https://tc.ifac-control.org/8/2/upcoming%20events/bms-2015
END:VEVENT
BEGIN:VTIMEZONE
TZID:Europe/Helsinki
X-LIC-LOCATION:Europe/Helsinki
BEGIN:DAYLIGHT
DTSTART;VALUE=DATE-TIME:20260329T040000
TZNAME:EEST
TZOFFSETFROM:+0200
TZOFFSETTO:+0300
END:DAYLIGHT
END:VTIMEZONE
END:VCALENDAR
