BEGIN:VCALENDAR
VERSION:2.0
PRODID:-//Plone.org//NONSGML plone.app.event//EN
X-WR-TIMEZONE:Europe/Helsinki
BEGIN:VEVENT
SUMMARY:19th IFAC World Congress in Cape Town\, South Africa
DTSTART;TZID=Europe/Helsinki;VALUE=DATE-TIME:20260420T230000
DTEND;TZID=Europe/Helsinki;VALUE=DATE-TIME:20260421T000000
DTSTAMP;VALUE=DATE-TIME:20260420T220227Z
UID:07127234dbb6bfb3dd27ccd4b31e739e@127.0.0.1:8090
CREATED;VALUE=DATE-TIME:20130809T100138Z
LAST-MODIFIED;VALUE=DATE-TIME:20130809T100219Z
LOCATION:Cape Town
URL:https://tc.ifac-control.org/8/2/upcoming%20events/19th-ifac-world-cong
 ress-in-cape-town-south-africa
END:VEVENT
BEGIN:VTIMEZONE
TZID:Europe/Helsinki
X-LIC-LOCATION:Europe/Helsinki
BEGIN:DAYLIGHT
DTSTART;VALUE=DATE-TIME:20260329T040000
TZNAME:EEST
TZOFFSETFROM:+0200
TZOFFSETTO:+0300
END:DAYLIGHT
END:VTIMEZONE
END:VCALENDAR
