BEGIN:VCALENDAR
VERSION:2.0
PRODID:-//Plone.org//NONSGML plone.app.event//EN
X-WR-TIMEZONE:Europe/Helsinki
BEGIN:VEVENT
SUMMARY:TC 7.2 Meeting at CAMS2018
DTSTART;TZID=Europe/Helsinki;VALUE=DATE-TIME:20260424T160000
DTEND;TZID=Europe/Helsinki;VALUE=DATE-TIME:20260424T170000
DTSTAMP;VALUE=DATE-TIME:20260424T150754Z
UID:1a5c162065b74841b2467f5b70886949@127.0.0.1:8090
CREATED;VALUE=DATE-TIME:20150202T143432Z
DESCRIPTION:Meeting of the Technical Committee on Marine System will be he
 ld during the IFAC CAMS2018 in Croatia
LAST-MODIFIED;VALUE=DATE-TIME:20180827T045504Z
LOCATION:Opatija (Croatia)
URL:https://tc.ifac-control.org/7/2/news/tc-7-2-meeting-at-ngcuv15
END:VEVENT
BEGIN:VTIMEZONE
TZID:Europe/Helsinki
X-LIC-LOCATION:Europe/Helsinki
BEGIN:DAYLIGHT
DTSTART;VALUE=DATE-TIME:20260329T040000
TZNAME:EEST
TZOFFSETFROM:+0200
TZOFFSETTO:+0300
END:DAYLIGHT
END:VTIMEZONE
END:VCALENDAR
