BEGIN:VCALENDAR
VERSION:2.0
PRODID:-//Plone.org//NONSGML plone.app.event//EN
X-WR-TIMEZONE:Europe/Helsinki
BEGIN:VEVENT
SUMMARY:14th IFAC Conference on Control Applications in Marine Systems\, R
 obotics\, and Vehicles CAMS 2022
DTSTART;VALUE=DATE:20220914
DTEND;VALUE=DATE:20220915
DTSTAMP;VALUE=DATE-TIME:20260420T170730Z
UID:f7abee64b3454990a4f259ede5c47c8b@127.0.0.1:8090
CONTACT:https://www.sciencedirect.com/journal/ifac-papersonline/vol/55/iss
 ue/31
CREATED;VALUE=DATE-TIME:20231205T035501Z
LAST-MODIFIED;VALUE=DATE-TIME:20231205T035546Z
LOCATION:Kongens Lyngby\, Denmark
URL:https://tc.ifac-control.org/7/2/events/14th-ifac-conference-on-control
 -applications-in-marine-systems-robotics-and-vehicles-cams-2022
END:VEVENT
END:VCALENDAR
