BEGIN:VCALENDAR
VERSION:2.0
PRODID:-//Plone.org//NONSGML plone.app.event//EN
X-WR-TIMEZONE:Europe/Helsinki
BEGIN:VEVENT
SUMMARY:10th IFAC﻿ Conference on Manoeuvring and Control of Marine Craft
  (MCMC'2015) 
DTSTART;TZID=Europe/Helsinki;VALUE=DATE-TIME:20260420T040000
DTEND;TZID=Europe/Helsinki;VALUE=DATE-TIME:20260420T050000
DTSTAMP;VALUE=DATE-TIME:20260420T031720Z
UID:3ae8c52969b14a7cbe1cab6a24cf639a@127.0.0.1:8090
CREATED;VALUE=DATE-TIME:20150202T141709Z
DESCRIPTION:The 10th IFAC﻿ Conference on Manoeuvring and Control of Mari
 ne Craft (MCMC'2015) is a triennial event organized by the International F
 ederation of Automatic Control. MCMC returns to Denmark after 15 years and
  will take place in the capital city Copenhagen. MCMC2015 is organized by 
 the Technical University of Denmark (DTU) in cooperation with the Automati
 on and Control Group at the Department of Electrical Engineering\, the DTU
  Maritime Centre\, and the Danish Automation Society\, the national member
  organization of IFAC.
LAST-MODIFIED;VALUE=DATE-TIME:20150202T142308Z
LOCATION:Copenhagen (Denmark)
URL:https://tc.ifac-control.org/7/2/events/10th-ifacfeff-conference-on-man
 oeuvring-and-control-of-marine-craft-mcmc2015
END:VEVENT
BEGIN:VTIMEZONE
TZID:Europe/Helsinki
X-LIC-LOCATION:Europe/Helsinki
BEGIN:DAYLIGHT
DTSTART;VALUE=DATE-TIME:20260329T040000
TZNAME:EEST
TZOFFSETFROM:+0200
TZOFFSETTO:+0300
END:DAYLIGHT
END:VTIMEZONE
END:VCALENDAR
