BEGIN:VCALENDAR
VERSION:2.0
PRODID:-//Plone.org//NONSGML plone.app.event//EN
X-WR-TIMEZONE:Europe/Helsinki
BEGIN:VEVENT
SUMMARY:3rd IFAC Workshop "Advances in Automotive Control"
DTSTART;TZID=Europe/Helsinki;VALUE=DATE-TIME:20260420T010000
DTEND;TZID=Europe/Helsinki;VALUE=DATE-TIME:20260420T020000
DTSTAMP;VALUE=DATE-TIME:20260420T002738Z
UID:5bc22a8d7396d3e803f99bb4a86fcb2b@127.0.0.1:8090
CREATED;VALUE=DATE-TIME:20080910T175543Z
LAST-MODIFIED;VALUE=DATE-TIME:20080910T175631Z
LOCATION:Karlsruhe\, (Germany)
URL:https://tc.ifac-control.org/7/1/events/events-organized-by-the-tc-auto
 motive-control/3rd-ifac-workshop-advances-in-automotive-control
END:VEVENT
BEGIN:VTIMEZONE
TZID:Europe/Helsinki
X-LIC-LOCATION:Europe/Helsinki
BEGIN:DAYLIGHT
DTSTART;VALUE=DATE-TIME:20260329T040000
TZNAME:EEST
TZOFFSETFROM:+0200
TZOFFSETTO:+0300
END:DAYLIGHT
END:VTIMEZONE
END:VCALENDAR
