BEGIN:VCALENDAR
VERSION:2.0
PRODID:-//Plone.org//NONSGML plone.app.event//EN
X-WR-TIMEZONE:Europe/Helsinki
BEGIN:VEVENT
SUMMARY:E-COSM'09
DTSTART;TZID=Europe/Helsinki;VALUE=DATE-TIME:20260422T020000
DTEND;TZID=Europe/Helsinki;VALUE=DATE-TIME:20260422T030000
DTSTAMP;VALUE=DATE-TIME:20260422T012644Z
UID:35df05bea8810b994628ca5841a60187@127.0.0.1:8090
CREATED;VALUE=DATE-TIME:20090409T071426Z
DESCRIPTION:E-COSM'09\, 2009 IFAC Workshop on Engine and Powertrain Contro
 l\, Simulation and Modeling\, IFP\, Rueil-Malmaison\, France\, November 30
 -December 2\,  2009.
LAST-MODIFIED;VALUE=DATE-TIME:20090409T072129Z
LOCATION:Rueil-Malmaison (near Paris)\, France
URL:https://tc.ifac-control.org/7/1/events/events-co-sponsored-by-the-tc-a
 utomotive-control/e-cosm09
END:VEVENT
BEGIN:VTIMEZONE
TZID:Europe/Helsinki
X-LIC-LOCATION:Europe/Helsinki
BEGIN:DAYLIGHT
DTSTART;VALUE=DATE-TIME:20260329T040000
TZNAME:EEST
TZOFFSETFROM:+0200
TZOFFSETTO:+0300
END:DAYLIGHT
END:VTIMEZONE
END:VCALENDAR
