BEGIN:VCALENDAR
VERSION:2.0
PRODID:-//Plone.org//NONSGML plone.app.event//EN
X-WR-TIMEZONE:Europe/Helsinki
BEGIN:VEVENT
SUMMARY:IFAC World Congress 2014
DTSTART;TZID=Europe/Helsinki;VALUE=DATE-TIME:20260421T030000
DTEND;TZID=Europe/Helsinki;VALUE=DATE-TIME:20260421T040000
DTSTAMP;VALUE=DATE-TIME:20260421T021330Z
UID:50e0c05568219264f9bdaa4c3f7528eb@127.0.0.1:8090
CREATED;VALUE=DATE-TIME:20090928T120450Z
LAST-MODIFIED;VALUE=DATE-TIME:20130603T111113Z
LOCATION:Cape Town International Convention Centre - Cape Town\, South Afr
 ica
URL:https://tc.ifac-control.org/6/3/news/copy_of_8th-ifac-symposium-on-non
 linear-control-systems-01-03-september-2010
END:VEVENT
BEGIN:VTIMEZONE
TZID:Europe/Helsinki
X-LIC-LOCATION:Europe/Helsinki
BEGIN:DAYLIGHT
DTSTART;VALUE=DATE-TIME:20260329T040000
TZNAME:EEST
TZOFFSETFROM:+0200
TZOFFSETTO:+0300
END:DAYLIGHT
END:VTIMEZONE
END:VCALENDAR
