BEGIN:VCALENDAR
VERSION:2.0
PRODID:-//Plone.org//NONSGML plone.app.event//EN
X-WR-TIMEZONE:Europe/Helsinki
BEGIN:VEVENT
SUMMARY:Industry Case Studies Program 2018 – Industry Day (ICSP 2018)
DTSTART;TZID=Europe/Helsinki;VALUE=DATE-TIME:20181023T000000
DTEND;TZID=Europe/Helsinki;VALUE=DATE-TIME:20181023T010000
DTSTAMP;VALUE=DATE-TIME:20260426T012206Z
UID:569d35ced6fe4beeb08f4a32d5d6fa3e@127.0.0.1:8090
CREATED;VALUE=DATE-TIME:20180502T145542Z
DESCRIPTION:industry related event at the "on the move conferences and wor
 kshops"
LAST-MODIFIED;VALUE=DATE-TIME:20201124T225030Z
LOCATION:Valletta\, Malta
URL:https://tc.ifac-control.org/5/3/activities/past/industry-case-studies-
 program-2018-2013-industry-day-icsp-2018
END:VEVENT
BEGIN:VTIMEZONE
TZID:Europe/Helsinki
X-LIC-LOCATION:Europe/Helsinki
BEGIN:DAYLIGHT
DTSTART;VALUE=DATE-TIME:20180325T040000
TZNAME:EEST
TZOFFSETFROM:+0200
TZOFFSETTO:+0300
END:DAYLIGHT
END:VTIMEZONE
END:VCALENDAR
