BEGIN:VCALENDAR
VERSION:2.0
PRODID:-//Plone.org//NONSGML plone.app.event//EN
X-WR-TIMEZONE:Europe/Helsinki
BEGIN:VEVENT
SUMMARY:TECIS 2019
DTSTART;TZID=Europe/Helsinki;VALUE=DATE-TIME:20190926T000000
DTEND;TZID=Europe/Helsinki;VALUE=DATE-TIME:20190928T010000
DTSTAMP;VALUE=DATE-TIME:20260426T012506Z
UID:c0b84fff05d54303a7554f694231158d@127.0.0.1:8090
CREATED;VALUE=DATE-TIME:20180428T062504Z
DESCRIPTION:19th IFAC Conference on "Technology\, Culture and Internationa
 l Stability" TECIS 2019\, to take place in Sozopol\, Bulgaria\; from Septe
 mber 26-28\, 2019
LAST-MODIFIED;VALUE=DATE-TIME:20201124T224850Z
LOCATION:Sozopol\, BULGARIA
URL:https://tc.ifac-control.org/5/3/activities/past/19th-ifac-conference-o
 n-technology-culture-and-international-stability-tecis-2019-to-take-place-
 in-sozopol-bulgaria-from-september-26-28-2019
END:VEVENT
BEGIN:VTIMEZONE
TZID:Europe/Helsinki
X-LIC-LOCATION:Europe/Helsinki
BEGIN:DAYLIGHT
DTSTART;VALUE=DATE-TIME:20190331T040000
TZNAME:EEST
TZOFFSETFROM:+0200
TZOFFSETTO:+0300
END:DAYLIGHT
END:VTIMEZONE
END:VCALENDAR
