BEGIN:VCALENDAR
VERSION:2.0
PRODID:-//Plone.org//NONSGML plone.app.event//EN
X-WR-TIMEZONE:Europe/Helsinki
BEGIN:VEVENT
SUMMARY:13th OTM/IFAC/IFIP International Workshop on Enterprise Integratio
 n\, Interoperability and Networking (EI2N 2018)
DTSTART;TZID=Europe/Helsinki;VALUE=DATE-TIME:20181022T000000
DTEND;TZID=Europe/Helsinki;VALUE=DATE-TIME:20181026T010000
DTSTAMP;VALUE=DATE-TIME:20260426T012211Z
UID:8533de9fd1b34241b5c871cd73b9e706@127.0.0.1:8090
CREATED;VALUE=DATE-TIME:20180502T145937Z
DESCRIPTION:Co-Sponsored by IFAC & Supported- by IFIP\n\nAbstract Submissi
 on Deadline: July 3rd \n\nFull Paper Submission Deadline: July 10th
LAST-MODIFIED;VALUE=DATE-TIME:20201124T224815Z
LOCATION:Valletta\, Malta
URL:https://tc.ifac-control.org/5/3/activities/past/13th-otm-ifac-ifip-int
 ernational-workshop-on-enterprise-integration-interoperability-and-network
 ing-ei2n-2018
END:VEVENT
BEGIN:VTIMEZONE
TZID:Europe/Helsinki
X-LIC-LOCATION:Europe/Helsinki
BEGIN:DAYLIGHT
DTSTART;VALUE=DATE-TIME:20180325T040000
TZNAME:EEST
TZOFFSETFROM:+0200
TZOFFSETTO:+0300
END:DAYLIGHT
END:VTIMEZONE
END:VCALENDAR
